Package: GenomicPlot Version: 1.2.4 Command: rm -rf GenomicPlot.buildbin-libdir && mkdir GenomicPlot.buildbin-libdir && E:\biocbuild\bbs-3.19-bioc\R\bin\R.exe CMD INSTALL --build --library=GenomicPlot.buildbin-libdir GenomicPlot_1.2.4.tar.gz StartedAt: 2024-10-17 07:51:53 -0400 (Thu, 17 Oct 2024) EndedAt: 2024-10-17 07:53:05 -0400 (Thu, 17 Oct 2024) EllapsedTime: 72.0 seconds RetCode: 0 Status: OK PackageFile: GenomicPlot_1.2.4.zip PackageFileSize: 1.896 MiB