Package: GenomicPlot Version: 1.2.2 Command: F:\biocbuild\bbs-3.19-bioc\R\bin\R.exe CMD check --no-multiarch --install=check:GenomicPlot.install-out.txt --library=F:\biocbuild\bbs-3.19-bioc\R\library --no-vignettes --timings GenomicPlot_1.2.2.tar.gz StartedAt: 2024-06-27 02:00:33 -0400 (Thu, 27 Jun 2024) EndedAt: 2024-06-27 02:38:58 -0400 (Thu, 27 Jun 2024) EllapsedTime: 2304.7 seconds RetCode: 0 Status: OK CheckDir: GenomicPlot.Rcheck Warnings: 0