Package: GenomicPlot Version: 1.2.2 Command: chmod a+r GenomicPlot -R && F:\biocbuild\bbs-3.19-bioc\R\bin\R.exe CMD build --keep-empty-dirs --no-resave-data GenomicPlot StartedAt: 2024-06-26 19:08:26 -0400 (Wed, 26 Jun 2024) EndedAt: 2024-06-26 19:16:21 -0400 (Wed, 26 Jun 2024) EllapsedTime: 474.9 seconds RetCode: 0 Status: OK PackageFile: GenomicPlot_1.2.2.tar.gz PackageFileSize: 1.657 MiB