Package: GenomicPlot Version: 1.2.4 Command: /home/biocbuild/bbs-3.19-bioc/R/bin/R CMD check --install=check:GenomicPlot.install-out.txt --library=/home/biocbuild/bbs-3.19-bioc/R/site-library --timings GenomicPlot_1.2.4.tar.gz StartedAt: 2024-10-17 00:47:43 -0400 (Thu, 17 Oct 2024) EndedAt: 2024-10-17 00:59:20 -0400 (Thu, 17 Oct 2024) EllapsedTime: 697.4 seconds RetCode: 0 Status: OK CheckDir: GenomicPlot.Rcheck Warnings: 0