Package: GenomicPlot Version: 1.2.4 Command: /Library/Frameworks/R.framework/Resources/bin/R CMD build --keep-empty-dirs --no-resave-data GenomicPlot StartedAt: 2024-10-16 19:32:00 -0400 (Wed, 16 Oct 2024) EndedAt: 2024-10-16 19:37:45 -0400 (Wed, 16 Oct 2024) EllapsedTime: 344.9 seconds RetCode: 0 Status: OK PackageFile: GenomicPlot_1.2.4.tar.gz PackageFileSize: 4.099 MiB