Package: GenomicPlot Version: 1.2.4 Command: rm -rf GenomicPlot.buildbin-libdir && mkdir GenomicPlot.buildbin-libdir && /Users/biocbuild/BBS/utils/build-universal.sh GenomicPlot_1.2.4.tar.gz /Library/Frameworks/R.framework/Resources/bin/R GenomicPlot.buildbin-libdir StartedAt: 2024-10-17 16:14:44 -0400 (Thu, 17 Oct 2024) EndedAt: 2024-10-17 16:16:55 -0400 (Thu, 17 Oct 2024) EllapsedTime: 130.3 seconds RetCode: 0 Status: OK PackageFile: GenomicPlot_1.2.4.tgz PackageFileSize: 4.242 MiB