Package: GenomicPlot Version: 1.2.1 Command: rm -rf GenomicPlot.buildbin-libdir && mkdir GenomicPlot.buildbin-libdir && /Users/biocbuild/BBS/utils/build-universal.sh GenomicPlot_1.2.1.tar.gz /Library/Frameworks/R.framework/Resources/bin/R GenomicPlot.buildbin-libdir StartedAt: 2024-06-11 11:24:01 -0400 (Tue, 11 Jun 2024) EndedAt: 2024-06-11 11:25:51 -0400 (Tue, 11 Jun 2024) EllapsedTime: 110.0 seconds RetCode: 0 Status: OK PackageFile: GenomicPlot_1.2.1.tgz PackageFileSize: 4.112 MiB