Package: GenomicPlot Version: 1.2.4 Command: /Library/Frameworks/R.framework/Resources/bin/R CMD build --keep-empty-dirs --no-resave-data GenomicPlot StartedAt: 2024-10-17 01:10:02 -0400 (Thu, 17 Oct 2024) EndedAt: 2024-10-17 01:12:47 -0400 (Thu, 17 Oct 2024) EllapsedTime: 164.2 seconds RetCode: 0 Status: OK PackageFile: GenomicPlot_1.2.4.tar.gz PackageFileSize: 4.103 MiB