Package: GenomicPlot Version: 1.2.4 Command: rm -rf GenomicPlot.buildbin-libdir && mkdir GenomicPlot.buildbin-libdir && /Users/biocbuild/BBS/utils/build-universal.sh GenomicPlot_1.2.4.tar.gz /Library/Frameworks/R.framework/Resources/bin/R GenomicPlot.buildbin-libdir StartedAt: 2024-10-18 18:41:13 -0400 (Fri, 18 Oct 2024) EndedAt: 2024-10-18 18:42:29 -0400 (Fri, 18 Oct 2024) EllapsedTime: 75.6 seconds RetCode: 0 Status: OK PackageFile: GenomicPlot_1.2.4.tgz PackageFileSize: 4.248 MiB