Package: GenomicOZone Version: 1.18.0 Command: E:\biocbuild\bbs-3.19-bioc\R\bin\R.exe CMD INSTALL GenomicOZone StartedAt: 2024-10-16 16:51:11 -0400 (Wed, 16 Oct 2024) EndedAt: 2024-10-16 16:52:25 -0400 (Wed, 16 Oct 2024) EllapsedTime: 74.5 seconds RetCode: 0 Status: OK