Package: GenomicOZone Version: 1.18.0 Command: rm -rf GenomicOZone.buildbin-libdir && mkdir GenomicOZone.buildbin-libdir && E:\biocbuild\bbs-3.19-bioc\R\bin\R.exe CMD INSTALL --build --library=GenomicOZone.buildbin-libdir GenomicOZone_1.18.0.tar.gz StartedAt: 2024-10-17 07:51:48 -0400 (Thu, 17 Oct 2024) EndedAt: 2024-10-17 07:52:41 -0400 (Thu, 17 Oct 2024) EllapsedTime: 52.7 seconds RetCode: 0 Status: OK PackageFile: GenomicOZone_1.18.0.zip PackageFileSize: 1.328 MiB