Package: GenomicOZone Version: 1.18.0 Command: /Library/Frameworks/R.framework/Resources/bin/R CMD check --install=check:GenomicOZone.install-out.txt --library=/Library/Frameworks/R.framework/Resources/library --no-vignettes --timings GenomicOZone_1.18.0.tar.gz StartedAt: 2024-06-09 20:35:02 -0400 (Sun, 09 Jun 2024) EndedAt: 2024-06-09 20:41:25 -0400 (Sun, 09 Jun 2024) EllapsedTime: 382.3 seconds RetCode: 0 Status: OK CheckDir: GenomicOZone.Rcheck Warnings: 0