Package: GenomicOZone Version: 1.18.0 Command: /Library/Frameworks/R.framework/Resources/bin/R CMD build --keep-empty-dirs --no-resave-data GenomicOZone StartedAt: 2024-10-17 01:08:44 -0400 (Thu, 17 Oct 2024) EndedAt: 2024-10-17 01:11:21 -0400 (Thu, 17 Oct 2024) EllapsedTime: 156.6 seconds RetCode: 0 Status: OK PackageFile: GenomicOZone_1.18.0.tar.gz PackageFileSize: 1.277 MiB