Package: GenomicInteractions Version: 1.38.0 Command: E:\biocbuild\bbs-3.19-bioc\R\bin\R.exe CMD INSTALL GenomicInteractions StartedAt: 2024-10-16 16:48:00 -0400 (Wed, 16 Oct 2024) EndedAt: 2024-10-16 16:51:28 -0400 (Wed, 16 Oct 2024) EllapsedTime: 207.6 seconds RetCode: 0 Status: OK