Package: GenomicInteractions Version: 1.38.0 Command: chmod a+r GenomicInteractions -R && F:\biocbuild\bbs-3.19-bioc\R\bin\R.exe CMD build --keep-empty-dirs --no-resave-data GenomicInteractions StartedAt: 2024-06-26 19:08:22 -0400 (Wed, 26 Jun 2024) EndedAt: 2024-06-26 19:12:16 -0400 (Wed, 26 Jun 2024) EllapsedTime: 234.3 seconds RetCode: 0 Status: OK PackageFile: GenomicInteractions_1.38.0.tar.gz PackageFileSize: 3.283 MiB