Package: GenomicInteractions Version: 1.38.0 Command: rm -rf GenomicInteractions.buildbin-libdir && mkdir GenomicInteractions.buildbin-libdir && F:\biocbuild\bbs-3.19-bioc\R\bin\R.exe CMD INSTALL --build --library=GenomicInteractions.buildbin-libdir GenomicInteractions_1.38.0.tar.gz StartedAt: 2024-06-27 08:16:24 -0400 (Thu, 27 Jun 2024) EndedAt: 2024-06-27 08:18:24 -0400 (Thu, 27 Jun 2024) EllapsedTime: 119.2 seconds RetCode: 0 Status: OK PackageFile: GenomicInteractions_1.38.0.zip PackageFileSize: 3.768 MiB