Package: GenomicInteractions Version: 1.38.0 Command: /home/biocbuild/R/R-beta-2024-04-15_r86425/bin/R CMD build --keep-empty-dirs --no-resave-data GenomicInteractions StartedAt: 2024-05-09 00:31:29 -0000 (Thu, 09 May 2024) EndedAt: 2024-05-09 00:35:46 -0000 (Thu, 09 May 2024) EllapsedTime: 257.3 seconds RetCode: 0 Status: OK PackageFile: GenomicInteractions_1.38.0.tar.gz PackageFileSize: 3.322 MiB