Package: GenomicInteractions Version: 1.38.0 Command: /Library/Frameworks/R.framework/Resources/bin/R CMD build --keep-empty-dirs --no-resave-data GenomicInteractions StartedAt: 2024-06-09 22:04:01 -0400 (Sun, 09 Jun 2024) EndedAt: 2024-06-09 22:08:36 -0400 (Sun, 09 Jun 2024) EllapsedTime: 275.3 seconds RetCode: 0 Status: OK PackageFile: GenomicInteractions_1.38.0.tar.gz PackageFileSize: 3.507 MiB