Package: GenomicInteractionNodes Version: 1.8.0 Command: chmod a+r GenomicInteractionNodes -R && E:\biocbuild\bbs-3.19-bioc\R\bin\R.exe CMD build --keep-empty-dirs --no-resave-data GenomicInteractionNodes StartedAt: 2024-10-16 19:23:15 -0400 (Wed, 16 Oct 2024) EndedAt: 2024-10-16 19:25:43 -0400 (Wed, 16 Oct 2024) EllapsedTime: 147.6 seconds RetCode: 0 Status: OK PackageFile: GenomicInteractionNodes_1.8.0.tar.gz PackageFileSize: 248.4 KiB