Package: GenomicInteractionNodes Version: 1.8.0 Command: /home/biocbuild/bbs-3.19-bioc/R/bin/R CMD build --keep-empty-dirs --no-resave-data GenomicInteractionNodes StartedAt: 2024-10-16 18:40:10 -0400 (Wed, 16 Oct 2024) EndedAt: 2024-10-16 18:41:59 -0400 (Wed, 16 Oct 2024) EllapsedTime: 109.2 seconds RetCode: 0 Status: OK PackageFile: GenomicInteractionNodes_1.8.0.tar.gz PackageFileSize: 248.4 KiB