Package: GenomicInteractionNodes Version: 1.8.0 Command: /Library/Frameworks/R.framework/Resources/bin/R CMD check --install=check:GenomicInteractionNodes.install-out.txt --library=/Library/Frameworks/R.framework/Resources/library --no-vignettes --timings GenomicInteractionNodes_1.8.0.tar.gz StartedAt: 2024-06-10 16:50:57 -0400 (Mon, 10 Jun 2024) EndedAt: 2024-06-10 17:04:45 -0400 (Mon, 10 Jun 2024) EllapsedTime: 828.1 seconds RetCode: 0 Status: OK CheckDir: GenomicInteractionNodes.Rcheck Warnings: 0