Package: GenomicInteractionNodes Version: 1.8.0 Command: /Library/Frameworks/R.framework/Resources/bin/R CMD build --keep-empty-dirs --no-resave-data GenomicInteractionNodes StartedAt: 2024-06-09 22:03:45 -0400 (Sun, 09 Jun 2024) EndedAt: 2024-06-09 22:06:41 -0400 (Sun, 09 Jun 2024) EllapsedTime: 176.4 seconds RetCode: 0 Status: OK PackageFile: GenomicInteractionNodes_1.8.0.tar.gz PackageFileSize: 248.2 KiB