Package: GenomicInteractionNodes Version: 1.8.0 Command: /Library/Frameworks/R.framework/Resources/bin/R CMD INSTALL GenomicInteractionNodes StartedAt: 2024-10-16 16:29:37 -0400 (Wed, 16 Oct 2024) EndedAt: 2024-10-16 16:30:19 -0400 (Wed, 16 Oct 2024) EllapsedTime: 41.4 seconds RetCode: 0 Status: OK