Package: GenomicInteractionNodes Version: 1.8.0 Command: /Library/Frameworks/R.framework/Resources/bin/R CMD build --keep-empty-dirs --no-resave-data GenomicInteractionNodes StartedAt: 2024-10-17 01:07:59 -0400 (Thu, 17 Oct 2024) EndedAt: 2024-10-17 01:10:18 -0400 (Thu, 17 Oct 2024) EllapsedTime: 139.2 seconds RetCode: 0 Status: OK PackageFile: GenomicInteractionNodes_1.8.0.tar.gz PackageFileSize: 248.2 KiB