Package: GenomicFiles Version: 1.40.0 Command: rm -rf GenomicFiles.buildbin-libdir && mkdir GenomicFiles.buildbin-libdir && F:\biocbuild\bbs-3.19-bioc\R\bin\R.exe CMD INSTALL --build --library=GenomicFiles.buildbin-libdir GenomicFiles_1.40.0.tar.gz StartedAt: 2024-06-27 08:16:19 -0400 (Thu, 27 Jun 2024) EndedAt: 2024-06-27 08:17:15 -0400 (Thu, 27 Jun 2024) EllapsedTime: 56.7 seconds RetCode: 0 Status: OK PackageFile: GenomicFiles_1.40.0.zip PackageFileSize: 1.007 MiB