Package: GenomicFeatures Version: 1.56.0 Command: chmod a+r GenomicFeatures -R && E:\biocbuild\bbs-3.19-bioc\R\bin\R.exe CMD build --keep-empty-dirs --no-resave-data GenomicFeatures StartedAt: 2024-10-16 19:22:55 -0400 (Wed, 16 Oct 2024) EndedAt: 2024-10-16 19:24:41 -0400 (Wed, 16 Oct 2024) EllapsedTime: 106.2 seconds RetCode: 0 Status: OK PackageFile: GenomicFeatures_1.56.0.tar.gz PackageFileSize: 555.9 KiB