Package: GenomicFeatures Version: 1.56.0 Command: /Library/Frameworks/R.framework/Resources/bin/R CMD INSTALL GenomicFeatures StartedAt: 2024-10-16 15:35:30 -0400 (Wed, 16 Oct 2024) EndedAt: 2024-10-16 15:36:54 -0400 (Wed, 16 Oct 2024) EllapsedTime: 83.6 seconds RetCode: 0 Status: OK