Package: GenomicFeatures Version: 1.56.0 Command: /Library/Frameworks/R.framework/Resources/bin/R CMD build --keep-empty-dirs --no-resave-data GenomicFeatures StartedAt: 2024-10-17 01:06:13 -0400 (Thu, 17 Oct 2024) EndedAt: 2024-10-17 01:07:51 -0400 (Thu, 17 Oct 2024) EllapsedTime: 97.9 seconds RetCode: 0 Status: OK PackageFile: GenomicFeatures_1.56.0.tar.gz PackageFileSize: 555.8 KiB