Package: GenomicDistributions Version: 1.12.0 Command: chmod a+r GenomicDistributions -R && E:\biocbuild\bbs-3.19-bioc\R\bin\R.exe CMD build --keep-empty-dirs --no-resave-data GenomicDistributions StartedAt: 2024-10-16 19:22:54 -0400 (Wed, 16 Oct 2024) EndedAt: 2024-10-16 19:24:51 -0400 (Wed, 16 Oct 2024) EllapsedTime: 117.1 seconds RetCode: 0 Status: OK PackageFile: GenomicDistributions_1.12.0.tar.gz PackageFileSize: 4.978 MiB