Package: GenomicDistributions Version: 1.12.0 Command: rm -rf GenomicDistributions.buildbin-libdir && mkdir GenomicDistributions.buildbin-libdir && E:\biocbuild\bbs-3.19-bioc\R\bin\R.exe CMD INSTALL --build --library=GenomicDistributions.buildbin-libdir GenomicDistributions_1.12.0.tar.gz StartedAt: 2024-10-17 07:51:27 -0400 (Thu, 17 Oct 2024) EndedAt: 2024-10-17 07:52:56 -0400 (Thu, 17 Oct 2024) EllapsedTime: 89.0 seconds RetCode: 0 Status: OK PackageFile: GenomicDistributions_1.12.0.zip PackageFileSize: 4.681 MiB