Package: GenomicDistributions Version: 1.12.0 Command: rm -rf GenomicDistributions.buildbin-libdir && mkdir GenomicDistributions.buildbin-libdir && F:\biocbuild\bbs-3.19-bioc\R\bin\R.exe CMD INSTALL --build --library=GenomicDistributions.buildbin-libdir GenomicDistributions_1.12.0.tar.gz StartedAt: 2024-06-27 08:16:15 -0400 (Thu, 27 Jun 2024) EndedAt: 2024-06-27 08:17:41 -0400 (Thu, 27 Jun 2024) EllapsedTime: 85.7 seconds RetCode: 0 Status: OK PackageFile: GenomicDistributions_1.12.0.zip PackageFileSize: 4.681 MiB