Package: GenomicDistributions Version: 1.12.0 Command: /home/biocbuild/bbs-3.19-bioc/R/bin/R CMD INSTALL GenomicDistributions StartedAt: 2024-10-16 15:59:00 -0400 (Wed, 16 Oct 2024) EndedAt: 2024-10-16 15:59:15 -0400 (Wed, 16 Oct 2024) EllapsedTime: 14.5 seconds RetCode: 0 Status: OK