Package: GenomicDistributions Version: 1.12.0 Command: /home/biocbuild/bbs-3.19-bioc/R/bin/R CMD check --install=check:GenomicDistributions.install-out.txt --library=/home/biocbuild/bbs-3.19-bioc/R/site-library --timings GenomicDistributions_1.12.0.tar.gz StartedAt: 2024-10-17 00:45:08 -0400 (Thu, 17 Oct 2024) EndedAt: 2024-10-17 00:48:38 -0400 (Thu, 17 Oct 2024) EllapsedTime: 209.3 seconds RetCode: 0 Status: OK CheckDir: GenomicDistributions.Rcheck Warnings: 0