Package: GenomicDistributions Version: 1.12.0 Command: /home/biocbuild/bbs-3.19-bioc/R/bin/R CMD build --keep-empty-dirs --no-resave-data GenomicDistributions StartedAt: 2024-10-16 18:39:06 -0400 (Wed, 16 Oct 2024) EndedAt: 2024-10-16 18:40:08 -0400 (Wed, 16 Oct 2024) EllapsedTime: 61.1 seconds RetCode: 0 Status: OK PackageFile: GenomicDistributions_1.12.0.tar.gz PackageFileSize: 5.678 MiB