Package: GenomicDistributions Version: 1.12.0 Command: /Library/Frameworks/R.framework/Resources/bin/R CMD check --install=check:GenomicDistributions.install-out.txt --library=/Library/Frameworks/R.framework/Resources/library --no-vignettes --timings GenomicDistributions_1.12.0.tar.gz StartedAt: 2024-10-17 05:49:47 -0400 (Thu, 17 Oct 2024) EndedAt: 2024-10-17 05:56:11 -0400 (Thu, 17 Oct 2024) EllapsedTime: 384.0 seconds RetCode: 0 Status: OK CheckDir: GenomicDistributions.Rcheck Warnings: 0