Package: GenomicDistributions Version: 1.12.0 Command: /Library/Frameworks/R.framework/Resources/bin/R CMD check --install=check:GenomicDistributions.install-out.txt --library=/Library/Frameworks/R.framework/Resources/library --no-vignettes --timings GenomicDistributions_1.12.0.tar.gz StartedAt: 2024-06-09 20:34:17 -0400 (Sun, 09 Jun 2024) EndedAt: 2024-06-09 20:37:28 -0400 (Sun, 09 Jun 2024) EllapsedTime: 190.3 seconds RetCode: 0 Status: OK CheckDir: GenomicDistributions.Rcheck Warnings: 0