Package: GenomicDistributions Version: 1.12.0 Command: rm -rf GenomicDistributions.buildbin-libdir && mkdir GenomicDistributions.buildbin-libdir && /Users/biocbuild/BBS/utils/build-universal.sh GenomicDistributions_1.12.0.tar.gz /Library/Frameworks/R.framework/Resources/bin/R GenomicDistributions.buildbin-libdir StartedAt: 2024-06-10 00:19:50 -0400 (Mon, 10 Jun 2024) EndedAt: 2024-06-10 00:20:15 -0400 (Mon, 10 Jun 2024) EllapsedTime: 25.0 seconds RetCode: 0 Status: OK PackageFile: GenomicDistributions_1.12.0.tgz PackageFileSize: 5.734 MiB