Package: GenomicDistributions Version: 1.12.0 Command: /Library/Frameworks/R.framework/Resources/bin/R CMD build --keep-empty-dirs --no-resave-data GenomicDistributions StartedAt: 2024-10-17 01:05:52 -0400 (Thu, 17 Oct 2024) EndedAt: 2024-10-17 01:07:12 -0400 (Thu, 17 Oct 2024) EllapsedTime: 79.6 seconds RetCode: 0 Status: OK PackageFile: GenomicDistributions_1.12.0.tar.gz PackageFileSize: 5.951 MiB