Package: GenomicDistributions Version: 1.12.0 Command: rm -rf GenomicDistributions.buildbin-libdir && mkdir GenomicDistributions.buildbin-libdir && /Users/biocbuild/BBS/utils/build-universal.sh GenomicDistributions_1.12.0.tar.gz /Library/Frameworks/R.framework/Resources/bin/R GenomicDistributions.buildbin-libdir StartedAt: 2024-10-18 18:40:10 -0400 (Fri, 18 Oct 2024) EndedAt: 2024-10-18 18:40:35 -0400 (Fri, 18 Oct 2024) EllapsedTime: 25.2 seconds RetCode: 0 Status: OK PackageFile: GenomicDistributions_1.12.0.tgz PackageFileSize: 5.734 MiB