Package: GenomicDataCommons Version: 1.28.2 Command: rm -rf GenomicDataCommons.buildbin-libdir && mkdir GenomicDataCommons.buildbin-libdir && E:\biocbuild\bbs-3.19-bioc\R\bin\R.exe CMD INSTALL --build --library=GenomicDataCommons.buildbin-libdir GenomicDataCommons_1.28.2.tar.gz StartedAt: 2024-10-17 07:51:25 -0400 (Thu, 17 Oct 2024) EndedAt: 2024-10-17 07:52:14 -0400 (Thu, 17 Oct 2024) EllapsedTime: 49.0 seconds RetCode: 0 Status: OK PackageFile: GenomicDataCommons_1.28.2.zip PackageFileSize: 1.924 MiB