Package: GenomicDataCommons Version: 1.28.0 Command: rm -rf GenomicDataCommons.buildbin-libdir && mkdir GenomicDataCommons.buildbin-libdir && /Users/biocbuild/BBS/utils/build-universal.sh GenomicDataCommons_1.28.0.tar.gz /Library/Frameworks/R.framework/Resources/bin/R GenomicDataCommons.buildbin-libdir StartedAt: 2024-06-10 00:19:49 -0400 (Mon, 10 Jun 2024) EndedAt: 2024-06-10 00:20:08 -0400 (Mon, 10 Jun 2024) EllapsedTime: 19.4 seconds RetCode: 0 Status: OK PackageFile: GenomicDataCommons_1.28.0.tgz PackageFileSize: 2.01 MiB