Package: GenomicDataCommons Version: 1.28.2 Command: rm -rf GenomicDataCommons.buildbin-libdir && mkdir GenomicDataCommons.buildbin-libdir && /Users/biocbuild/BBS/utils/build-universal.sh GenomicDataCommons_1.28.2.tar.gz /Library/Frameworks/R.framework/Resources/bin/R GenomicDataCommons.buildbin-libdir StartedAt: 2024-10-15 18:13:07 -0400 (Tue, 15 Oct 2024) EndedAt: 2024-10-15 18:13:26 -0400 (Tue, 15 Oct 2024) EllapsedTime: 18.4 seconds RetCode: 0 Status: OK PackageFile: GenomicDataCommons_1.28.2.tgz PackageFileSize: 2.013 MiB