Package: GenomicAlignments Version: 1.40.0 Command: E:\biocbuild\bbs-3.19-bioc\R\bin\R.exe CMD INSTALL GenomicAlignments StartedAt: 2024-10-16 16:19:05 -0400 (Wed, 16 Oct 2024) EndedAt: 2024-10-16 16:22:27 -0400 (Wed, 16 Oct 2024) EllapsedTime: 201.9 seconds RetCode: 0 Status: OK