Package: GenomicAlignments Version: 1.40.0 Command: /Library/Frameworks/R.framework/Resources/bin/R CMD INSTALL GenomicAlignments StartedAt: 2024-10-16 16:24:00 -0400 (Wed, 16 Oct 2024) EndedAt: 2024-10-16 16:24:42 -0400 (Wed, 16 Oct 2024) EllapsedTime: 41.8 seconds RetCode: 0 Status: OK