Package: GenomicAlignments Version: 1.40.0 Command: rm -rf GenomicAlignments.buildbin-libdir && mkdir GenomicAlignments.buildbin-libdir && /Users/biocbuild/BBS/utils/build-universal.sh GenomicAlignments_1.40.0.tar.gz /Library/Frameworks/R.framework/Resources/bin/R GenomicAlignments.buildbin-libdir StartedAt: 2024-10-18 18:40:07 -0400 (Fri, 18 Oct 2024) EndedAt: 2024-10-18 18:41:01 -0400 (Fri, 18 Oct 2024) EllapsedTime: 53.6 seconds RetCode: 0 Status: OK PackageFile: GenomicAlignments_1.40.0.tgz PackageFileSize: 2.247 MiB