Package: GenomeInfoDb Version: 1.40.1 Command: chmod a+r GenomeInfoDb -R && E:\biocbuild\bbs-3.19-bioc\R\bin\R.exe CMD build --keep-empty-dirs --no-resave-data GenomeInfoDb StartedAt: 2024-10-16 19:22:32 -0400 (Wed, 16 Oct 2024) EndedAt: 2024-10-16 19:23:35 -0400 (Wed, 16 Oct 2024) EllapsedTime: 63.6 seconds RetCode: 0 Status: OK PackageFile: GenomeInfoDb_1.40.1.tar.gz PackageFileSize: 3.418 MiB