Package: GenomeInfoDb Version: 1.40.1 Command: rm -rf GenomeInfoDb.buildbin-libdir && mkdir GenomeInfoDb.buildbin-libdir && E:\biocbuild\bbs-3.19-bioc\R\bin\R.exe CMD INSTALL --build --library=GenomeInfoDb.buildbin-libdir GenomeInfoDb_1.40.1.tar.gz StartedAt: 2024-10-17 07:51:18 -0400 (Thu, 17 Oct 2024) EndedAt: 2024-10-17 07:52:17 -0400 (Thu, 17 Oct 2024) EllapsedTime: 59.2 seconds RetCode: 0 Status: OK PackageFile: GenomeInfoDb_1.40.1.zip PackageFileSize: 4.07 MiB