Package: GenomeInfoDb Version: 1.40.1 Command: rm -rf GenomeInfoDb.buildbin-libdir && mkdir GenomeInfoDb.buildbin-libdir && F:\biocbuild\bbs-3.19-bioc\R\bin\R.exe CMD INSTALL --build --library=GenomeInfoDb.buildbin-libdir GenomeInfoDb_1.40.1.tar.gz StartedAt: 2024-06-27 08:16:07 -0400 (Thu, 27 Jun 2024) EndedAt: 2024-06-27 08:16:32 -0400 (Thu, 27 Jun 2024) EllapsedTime: 25.2 seconds RetCode: 0 Status: OK PackageFile: GenomeInfoDb_1.40.1.zip PackageFileSize: 4.07 MiB