Package: GenomeInfoDb Version: 1.40.1 Command: /home/biocbuild/bbs-3.19-bioc/R/bin/R CMD check --install=check:GenomeInfoDb.install-out.txt --library=/home/biocbuild/bbs-3.19-bioc/R/site-library --timings GenomeInfoDb_1.40.1.tar.gz StartedAt: 2024-10-17 00:44:39 -0400 (Thu, 17 Oct 2024) EndedAt: 2024-10-17 01:03:29 -0400 (Thu, 17 Oct 2024) EllapsedTime: 1129.2 seconds RetCode: 0 Status: OK CheckDir: GenomeInfoDb.Rcheck Warnings: 0