Package: GenomeInfoDb Version: 1.40.1 Command: /Library/Frameworks/R.framework/Resources/bin/R CMD INSTALL GenomeInfoDb StartedAt: 2024-10-16 15:13:31 -0400 (Wed, 16 Oct 2024) EndedAt: 2024-10-16 15:13:54 -0400 (Wed, 16 Oct 2024) EllapsedTime: 23.2 seconds RetCode: 0 Status: OK